BEGIN:VCALENDAR
VERSION:2.0
PRODID:-//Mount Claremont Primary School - ECPv6.15.14//NONSGML v1.0//EN
CALSCALE:GREGORIAN
METHOD:PUBLISH
X-ORIGINAL-URL:https://mountclaremontps.wa.edu.au
X-WR-CALDESC:Events for Mount Claremont Primary School
REFRESH-INTERVAL;VALUE=DURATION:PT1H
X-Robots-Tag:noindex
X-PUBLISHED-TTL:PT1H
BEGIN:VTIMEZONE
TZID:Australia/Perth
BEGIN:STANDARD
TZOFFSETFROM:+0800
TZOFFSETTO:+0800
TZNAME:AWST
DTSTART:20230101T000000
END:STANDARD
END:VTIMEZONE
BEGIN:VEVENT
DTSTART;VALUE=DATE:20240517
DTEND;VALUE=DATE:20240518
DTSTAMP:20260425T093250
CREATED:20231219T082307Z
LAST-MODIFIED:20231219T082307Z
UID:797-1715904000-1715990399@mountclaremontps.wa.edu.au
SUMMARY:School Development Day
DESCRIPTION:
URL:https://mountclaremontps.wa.edu.au/calendar/school-development-day/
CATEGORIES:School Development Day
END:VEVENT
BEGIN:VEVENT
DTSTART;VALUE=DATE:20240130
DTEND;VALUE=DATE:20240131
DTSTAMP:20260425T093250
CREATED:20231219T081306Z
LAST-MODIFIED:20231219T081306Z
UID:759-1706572800-1706659199@mountclaremontps.wa.edu.au
SUMMARY:Professional Development Day - Students do not attend school
DESCRIPTION:
URL:https://mountclaremontps.wa.edu.au/calendar/professional-development-day-students-do-not-attend-school-2/
CATEGORIES:School Development Day
END:VEVENT
BEGIN:VEVENT
DTSTART;VALUE=DATE:20240129
DTEND;VALUE=DATE:20240130
DTSTAMP:20260425T093250
CREATED:20231219T081248Z
LAST-MODIFIED:20231219T081248Z
UID:757-1706486400-1706572799@mountclaremontps.wa.edu.au
SUMMARY:Professional Development Day - Students do not attend school
DESCRIPTION:
URL:https://mountclaremontps.wa.edu.au/calendar/professional-development-day-students-do-not-attend-school/
CATEGORIES:School Development Day
END:VEVENT
END:VCALENDAR