BEGIN:VCALENDAR
VERSION:2.0
PRODID:-//Mount Claremont Primary School - ECPv6.15.14//NONSGML v1.0//EN
CALSCALE:GREGORIAN
METHOD:PUBLISH
X-WR-CALNAME:Mount Claremont Primary School
X-ORIGINAL-URL:https://mountclaremontps.wa.edu.au
X-WR-CALDESC:Events for Mount Claremont Primary School
REFRESH-INTERVAL;VALUE=DURATION:PT1H
X-Robots-Tag:noindex
X-PUBLISHED-TTL:PT1H
BEGIN:VTIMEZONE
TZID:Australia/Perth
BEGIN:STANDARD
TZOFFSETFROM:+0800
TZOFFSETTO:+0800
TZNAME:AWST
DTSTART:20230101T000000
END:STANDARD
END:VTIMEZONE
BEGIN:VEVENT
DTSTART;VALUE=DATE:20240129
DTEND;VALUE=DATE:20240130
DTSTAMP:20260425T052348
CREATED:20231219T081248Z
LAST-MODIFIED:20231219T081248Z
UID:757-1706486400-1706572799@mountclaremontps.wa.edu.au
SUMMARY:Professional Development Day - Students do not attend school
DESCRIPTION:
URL:https://mountclaremontps.wa.edu.au/calendar/professional-development-day-students-do-not-attend-school/
CATEGORIES:School Development Day
END:VEVENT
BEGIN:VEVENT
DTSTART;VALUE=DATE:20240126
DTEND;VALUE=DATE:20240127
DTSTAMP:20260425T052348
CREATED:20231219T081204Z
LAST-MODIFIED:20231219T081204Z
UID:755-1706227200-1706313599@mountclaremontps.wa.edu.au
SUMMARY:Australia Da
DESCRIPTION:
URL:https://mountclaremontps.wa.edu.au/calendar/australia-da/
CATEGORIES:Public Holidays
END:VEVENT
END:VCALENDAR